BEGIN:VCALENDAR
VERSION:2.0
PRODID:-//Annenberg Digital Lounge - ECPv6.15.20//NONSGML v1.0//EN
CALSCALE:GREGORIAN
METHOD:PUBLISH
X-ORIGINAL-URL:https://annenbergdl.org
X-WR-CALDESC:Events for Annenberg Digital Lounge
REFRESH-INTERVAL;VALUE=DURATION:PT1H
X-Robots-Tag:noindex
X-PUBLISHED-TTL:PT1H
BEGIN:VTIMEZONE
TZID:America/Los_Angeles
BEGIN:DAYLIGHT
TZOFFSETFROM:-0800
TZOFFSETTO:-0700
TZNAME:PDT
DTSTART:20250309T100000
END:DAYLIGHT
BEGIN:STANDARD
TZOFFSETFROM:-0700
TZOFFSETTO:-0800
TZNAME:PST
DTSTART:20251102T090000
END:STANDARD
BEGIN:DAYLIGHT
TZOFFSETFROM:-0800
TZOFFSETTO:-0700
TZNAME:PDT
DTSTART:20260308T100000
END:DAYLIGHT
BEGIN:STANDARD
TZOFFSETFROM:-0700
TZOFFSETTO:-0800
TZNAME:PST
DTSTART:20261101T090000
END:STANDARD
BEGIN:DAYLIGHT
TZOFFSETFROM:-0800
TZOFFSETTO:-0700
TZNAME:PDT
DTSTART:20270314T100000
END:DAYLIGHT
BEGIN:STANDARD
TZOFFSETFROM:-0700
TZOFFSETTO:-0800
TZNAME:PST
DTSTART:20271107T090000
END:STANDARD
END:VTIMEZONE
BEGIN:VEVENT
DTSTART;TZID=America/Los_Angeles:20260226T100000
DTEND;TZID=America/Los_Angeles:20260226T120000
DTSTAMP:20260421T013735
CREATED:20260109T233531Z
LAST-MODIFIED:20260109T233601Z
UID:3052-1772100000-1772107200@annenbergdl.org
SUMMARY:Code a Website Series: Part 2 - CSS
DESCRIPTION:The Code a Website Series at the Annenberg Digital Lounge walks through the very basics of web development\, using HTML and CSS. After completing the workshop series\, you’ll have your very own website built completely from scratch! \nThe second of three parts\, the CSS workshop introduces how to style a website using code\, including the fonts\, colors\, and layout of the site. \nThursday February 26 | 10am-12pm | ANN 301D \nRSVP
URL:https://annenbergdl.org/event/code-a-website-series-part-2-css/
LOCATION:Digital Lounge\, 3630 Watt Way\, Los Angeles\, CA\, United States
CATEGORIES:HTML/CSS
ATTACH;FMTTYPE=image/png:https://annenbergdl.org/wp-content/uploads/2026/01/Code-a-Website-Series-3-Website-Featured-Image.png
END:VEVENT
BEGIN:VEVENT
DTSTART;TZID=America/Los_Angeles:20260226T160000
DTEND;TZID=America/Los_Angeles:20260226T180000
DTSTAMP:20260421T013735
CREATED:20260113T185220Z
LAST-MODIFIED:20260113T185220Z
UID:3062-1772121600-1772128800@annenbergdl.org
SUMMARY:HubSpot Social Media Marketing II Cert Series: Part 3
DESCRIPTION:HubSpot recently launched this new certification to take your social media strategy to the next level.  Learn advanced social media techniques to build your audience\, optimized by AI tools. Grow brand-specific social communities and leverage social media e-commerce to boost sales. Enhance your storytelling in the age of AI marketing.  \nPREREQUISITE: HubSpot Social Media Marketing I Certification \nThursday February 26 | 4pm-6pm | ANN 301D \nRSVP
URL:https://annenbergdl.org/event/hubspot-social-media-marketing-ii-cert-series-part-3/
LOCATION:Digital Lounge\, 3630 Watt Way\, Los Angeles\, CA\, United States
CATEGORIES:Marketing
ATTACH;FMTTYPE=image/png:https://annenbergdl.org/wp-content/uploads/2026/01/Social-Media-Marketing-II-Cert-Series_Website.png
END:VEVENT
END:VCALENDAR